Workbook

Sheet 추경승인신청서
C2: 2019회계 | E2: 추가경정예산 세부내역
B4: 사업명 | D4: 기획예산팀 | F4: 예산부서 | H4: 기획예산
B5: 회계구분 | D5: 등록금 | F5: 수입/지출 | H5: 지출
B7: □ 계정과목 : | C7: =IFERROR(VLOOKUP(D7,데이터시트!$A$2:$C$231,3,FALSE),"없음") -> 430201 | D7: 교외장학금
B8: □ 계정과목 : | C8: =IFERROR(VLOOKUP(D8,데이터시트!$A$2:$C$231,3,FALSE),"없음") -> 없음
B9: 과목 | E9: 경정예산액ⓐ ⓐ=ⓑ+ⓒ | F9: 기정예산액ⓑ | G9: 증감액ⓒ | H9: 산출근거
B10: 관 | C10: 항 | D10: 목 | E10: (최종예산) | F10: (전체편성예산) | G10: ="("&IF($G$12<0,"감소","증가")&"예산)" -> (감소예산)
G11: ="("&IF($G$13<0,"감소","증가")&"예산)" -> (증가예산)
B12: =IFERROR(VLOOKUP(LEFT(VLOOKUP(D12,데이터시트!$A$3:$C$229,3,),2),데이터시트!$D$2:$F$20,2,FALSE),"없음") -> 연구학생경비 | C12: =IFERROR(VLOOKUP(LEFT(VLOOKUP(D12,데이터시트!$A$3:$C$229,3,),4),데이터시트!$G$2:$I$38,2,FALSE),"없음") -> 학생경비 | D12: =$D$7 -> 교외장학금 | E12: =F12+G12 -> 1180000 | F12: 2500000 | G12: -1320000 | H12: 예산미사용 반납
B13: =IFERROR(VLOOKUP(LEFT(VLOOKUP(D13,데이터시트!$A$3:$C$229,3,),2),데이터시트!$D$2:$F$20,2,FALSE),"없음") -> 없음 | C13: =IFERROR(VLOOKUP(LEFT(VLOOKUP(D13,데이터시트!$A$3:$C$229,3,),4),데이터시트!$G$2:$I$38,2,FALSE),"없음") -> 없음 | D13: =D8 -> 0 | E13: =F13+G13 -> 0 | F13: 0 | G13: 0
B14: 세부산출내역 | D14: 전체편성예산 2,500,000원 전체집행금액 880,000원 현재예산잔액 1,620,000원 예산 미사용으로 인한 예산 반납 1,320,000원 추가경정예산 1,180,000원 2019결산 예상 예산잔액 0원
B20: □ 계정과목 : | C20: =IFERROR(VLOOKUP(D20,데이터시트!$A$2:$C$231,3,FALSE),"없음") -> 없음
B21: □ 계정과목 : | C21: =IFERROR(VLOOKUP(D21,데이터시트!$A$2:$C$231,3,FALSE),"없음") -> 없음
B22: 과목 | E22: 경정예산액ⓐ ⓐ=ⓑ+ⓒ | F22: 기정예산액ⓑ | G22: 증감액ⓒ | H22: 산출근거
B23: 관 | C23: 항 | D23: 목 | E23: (최종예산) | F23: (전체편성예산) | G23: ="("&IF(G25<0,"감소","증가")&"예산)" -> (증가예산)
G24: ="("&IF(G26<0,"감소","증가")&"예산)" -> (증가예산)
B25: =IFERROR(VLOOKUP(LEFT(VLOOKUP(D25,데이터시트!$A$3:$C$229,3,),2),데이터시트!$D$2:$F$20,2,FALSE),"없음") -> 없음 | C25: =IFERROR(VLOOKUP(LEFT(VLOOKUP(D25,데이터시트!$A$3:$C$229,3,),4),데이터시트!$G$2:$I$38,2,FALSE),"없음") -> 없음 | D25: =D20 -> 0 | E25: =F25+G25 -> 0
B26: =IFERROR(VLOOKUP(LEFT(VLOOKUP(D26,데이터시트!$A$3:$C$229,3,),2),데이터시트!$D$2:$F$20,2,FALSE),"없음") -> 없음 | C26: =IFERROR(VLOOKUP(LEFT(VLOOKUP(D26,데이터시트!$A$3:$C$229,3,),4),데이터시트!$G$2:$I$38,2,FALSE),"없음") -> 없음 | D26: =D21 -> 0 | E26: =F26+G26 -> 0 | F26: 0 | G26: 0
B27: 세부산출내역
F33: 처장 | H33: (인)
F34: 과장 | H34: (인)
F35: 담당 | H35: (인)
B37: 전략기획처
C41: 2019회계 | E41: 추가경정예산 세부내역
B43: 사업명 | F43: 예산부서
B44: 회계구분 | D44: 비등록금 | F44: 수입/지출
B46: □ 계정과목 : | C46: =IFERROR(VLOOKUP(D46,데이터시트!$A$2:$C$231,3,FALSE),"없음") -> 없음
B47: □ 계정과목 : | C47: =IFERROR(VLOOKUP(D47,데이터시트!$A$2:$C$231,3,FALSE),"없음") -> 없음
B48: 과목 | E48: 경정예산액ⓐ ⓐ=ⓑ+ⓒ | F48: 기정예산액ⓑ | G48: 증감액ⓒ | H48: 산출근거
B49: 관 | C49: 항 | D49: 목 | E49: (최종예산) | F49: (전체편성예산) | G49: ="("&IF(G51<0,"감소","증가")&"예산)" -> (증가예산)
G50: ="("&IF(G52<0,"감소","증가")&"예산)" -> (증가예산)
B51: =IFERROR(VLOOKUP(LEFT(VLOOKUP(D51,데이터시트!$A$3:$C$229,3,),2),데이터시트!$D$2:$F$20,2,FALSE),"없음") -> 없음 | C51: =IFERROR(VLOOKUP(LEFT(VLOOKUP(D51,데이터시트!$A$3:$C$229,3,),4),데이터시트!$G$2:$I$38,2,FALSE),"없음") -> 없음 | D51: =D46 -> 0 | E51: =F51+G51 -> 0
B52: =IFERROR(VLOOKUP(LEFT(VLOOKUP(D52,데이터시트!$A$3:$C$229,3,),2),데이터시트!$D$2:$F$20,2,FALSE),"없음") -> 없음 | C52: =IFERROR(VLOOKUP(LEFT(VLOOKUP(D52,데이터시트!$A$3:$C$229,3,),4),데이터시트!$G$2:$I$38,2,FALSE),"없음") -> 없음 | D52: =D47 -> 0 | E52: =F52+G52 -> 0 | F52: 0 | G52: 0
B53: 세부산출내역
B59: □ 계정과목 : | C59: =IFERROR(VLOOKUP(D59,데이터시트!$A$2:$C$231,3,FALSE),"없음") -> 없음
B60: □ 계정과목 : | C60: =IFERROR(VLOOKUP(D60,데이터시트!$A$2:$C$231,3,FALSE),"없음") -> 없음
B61: 과목 | E61: 경정예산액ⓐ ⓐ=ⓑ+ⓒ | F61: 기정예산액ⓑ | G61: 증감액ⓒ | H61: 산출근거
B62: 관 | C62: 항 | D62: 목 | E62: (최종예산) | F62: (전체편성예산) | G62: ="("&IF(G64<0,"감소","증가")&"예산)" -> (증가예산)
G63: ="("&IF(G65<0,"감소","증가")&"예산)" -> (증가예산)
B64: =IFERROR(VLOOKUP(LEFT(VLOOKUP(D64,데이터시트!$A$3:$C$229,3,),2),데이터시트!$D$2:$F$20,2,FALSE),"없음") -> 없음 | C64: =IFERROR(VLOOKUP(LEFT(VLOOKUP(D64,데이터시트!$A$3:$C$229,3,),4),데이터시트!$G$2:$I$38,2,FALSE),"없음") -> 없음 | D64: =D59 -> 0 | E64: =F64+G64 -> 0
B65: =IFERROR(VLOOKUP(LEFT(VLOOKUP(D65,데이터시트!$A$3:$C$229,3,),2),데이터시트!$D$2:$F$20,2,FALSE),"없음") -> 없음 | C65: =IFERROR(VLOOKUP(LEFT(VLOOKUP(D65,데이터시트!$A$3:$C$229,3,),4),데이터시트!$G$2:$I$38,2,FALSE),"없음") -> 없음 | D65: =D60 -> 0 | E65: =F65+G65 -> 0 | F65: 0 | G65: 0
B66: 세부산출내역
F72: 처장 | H72: (인)
F73: 과장 | H73: (인)
F74: 담당 | H74: (인)
B76: 전략기획처

Sheet 데이터시트
A1: 전체 | E1: 관 | H1: 항 | J1: 목 | M1: 세목
A2: 계정과목명 | B2: 계정등급 | C2: 계정코드 | D2: 계정코드 | E2: 계정과목명 | F2: 계정등급 | G2: 계정코드 | H2: 계정과목명 | I2: 계정등급 | J2: 계정과목명 | K2: 계정등급 | L2: 계정코드 | M2: 계정과목명 | N2: 계정등급 | O2: 계정코드
A3: 자산 | B3: 장 | C3: 1 | D3: 11 | E3: 유동자산 | F3: 관 | G3: 1101 | H3: 유동자금 | I3: 항 | J3: 현금 | K3: 목 | L3: 110101 | M3: 선급법인세 | N3: 세목 | O3: 11020501
A4: 유동자산 | B4: 관 | C4: 11 | D4: 12 | E4: 투자와기타자산 | F4: 관 | G4: 1102 | H4: 기타유동자산 | I4: 항 | J4: 예금 | K4: 목 | L4: 110102 | M4: 법인지방소득세 | N4: 세목 | O4: 11020502
A5: 유동자금 | B5: 항 | C5: 1101 | D5: 13 | E5: 고정자산 | F5: 관 | G5: 1202 | H5: 투자자산 | I5: 항 | J5: 단기대여금 | K5: 목 | L5: 110201 | M5: 기타예수금 | N5: 세목 | O5: 21020450
A6: 현금 | B6: 목 | C6: 110101 | D6: 14 | E6: 사용수익권 | F6: 관 | G6: 1204 | H6: 기타자산 | I6: 항 | J6: 선급금 | K6: 목 | L6: 110202 | M6: 학생회예수금 | N6: 세목 | O6: 21020451
A7: 예금 | B7: 목 | C7: 110102 | D7: 21 | E7: 유동부채 | F7: 관 | G7: 1301 | H7: 유형고정자산 | I7: 항 | J7: 미수금 | K7: 목 | L7: 110203 | M7: 교원사학연금부담금 | N7: 세목 | O7: 41010401
A8: 기타유동자산 | B8: 항 | C8: 1102 | D8: 22 | E8: 고정부채 | F8: 관 | G8: 1302 | H8: 무형고정자산 | I8: 항 | J8: 가지급금 | K8: 목 | L8: 110204 | M8: 교원국민연금부담금 | N8: 세목 | O8: 41010402
A9: 단기대여금 | B9: 목 | C9: 110201 | D9: 31 | E9: 기본금 | F9: 관 | G9: 1401 | H9: 사용수익권 | I9: 항 | J9: 선급법인세 | K9: 목 | L9: 110205 | M9: 교원건강보험금 | N9: 세목 | O9: 41010403
A10: 선급금 | B10: 목 | C10: 110202 | D10: 41 | E10: 보수 | F10: 관 | G10: 2102 | H10: 예수금 | I10: 항 | J10: 받을어음 | K10: 목 | L10: 110206 | M10: 교원고용산재보험금 | N10: 세목 | O10: 41010404
A11: 미수금 | B11: 목 | C11: 110203 | D11: 42 | E11: 관리운영비 | F11: 관 | G11: 2103 | H11: 선수금 | I11: 항 | J11: 기타유동자산 | K11: 목 | L11: 110207 | M11: 교원퇴직수당부담금 | N11: 세목 | O11: 41010405
A12: 가지급금 | B12: 목 | C12: 110204 | D12: 43 | E12: 연구학생경비 | F12: 관 | G12: 2104 | H12: 기타유동부채 | I12: 항 | J12: 선급법인세회수 | K12: 목 | L12: 110208 | M12: 직원사학연금부담금 | N12: 세목 | O12: 41020401
A13: 선급법인세 | B13: 목 | C13: 110205 | D13: 44 | E13: 교육외비용 | F13: 관 | G13: 2202 | H13: 기타고정부채 | I13: 항 | J13: 투자유가증권 | K13: 목 | L13: 120201 | M13: 직원국민연금부담금 | N13: 세목 | O13: 41020402
... A20: 투자자산 | B20: 항 | C20: 1202 | D20: 59 | E20: 미사용전기이월자금 | F20: 관 | G20: 4201 | H20: 시설관리비 | I20: 항 | J20: 토지 | K20: 목 | L20: 130101 | M20: 집기비품감가상각비 | N20: 세목 | O20: 42050104
A21: 투자유가증권 | B21: 목 | C21: 120201 | D21: 0 | E21: - | F21: - | G21: 4202 | H21: 일반관리비 | I21: 항 | J21: 건물 | K21: 목 | L21: 130102 | M21: 차량운반구감가상각비 | N21: 세목 | O21: 42050105
A22: 투자유가증권평가충당금 | B22: 목 | C22: 120202 | G22: 4203 | H22: 운영비 | I22: 항 | J22: 건물감가상각누계액 | K22: 목 | L22: 130103 | M22: 도서감가상각비 | N22: 세목 | O22: 42050106
A23: 학교기업투자 | B23: 목 | C23: 120206 | G23: 4205 | H23: 감가상각비 | I23: 항 | J23: 구축물 | K23: 목 | L23: 130104 | M23: 건축적립금적립액 | N23: 세목 | O23: 45010901
A24: 기타투자자산 | B24: 목 | C24: 120207 | G24: 4301 | H24: 연구비 | I24: 항 | J24: 구축물감가상각누계액 | K24: 목 | L24: 130105 | M24: 차입원리금상환액 | N24: 세목 | O24: 45010902
A25: 기타자산 | B25: 항 | C25: 1204 | G25: 4302 | H25: 학생경비 | I25: 항 | J25: 기계기구 | K25: 목 | L25: 130106 | M25: 계절학기수업료 | N25: 세목 | O25: 510105
A26: 전신전화보증금 | B26: 목 | C26: 120401 | G26: 4402 | H26: 기타교육외비용 | I26: 항 | J26: 기계기구감가상각누계액 | K26: 목 | L26: 130107
A27: 임차보증금 | B27: 목 | C27: 120402 | G27: 4403 | H27: 고유목적사업준비금전입액 | I27: 항 | J27: 집기비품 | K27: 목 | L27: 130108
A28: 기타자산 | B28: 목 | C28: 120404 | G28: 4501 | H28: 전출금 | I28: 항 | J28: 집기비품감가상각누계액 | K28: 목 | L28: 130109
A29: 고정자산 | B29: 관 | C29: 13 | G29: 4504 | H29: 산학협력단및학교기업전출금 | I29: 항 | J29: 차량운반구 | K29: 목 | L29: 130110
A30: 유형고정자산 | B30: 항 | C30: 1301 | G30: 4801 | H30: 예비비 | I30: 항 | J30: 차량운반구감가상각누계액 | K30: 목 | L30: 130111
A31: 토지 | B31: 목 | C31: 130101 | G31: 4901 | H31: 미사용차기이월자금 | I31: 항 | J31: 도서 | K31: 목 | L31: 130112
A32: 건물 | B32: 목 | C32: 130102 | G32: 5101 | H32: 등록금수입 | I32: 항 | J32: 도서감가상각누계액 | K32: 목 | L32: 130113
A33: 건물감가상각누계액 | B33: 목 | C33: 130103 | G33: 5201 | H33: 전입금수입 | I33: 항 | J33: 박물관유물 | K33: 목 | L33: 130114
A34: 구축물 | B34: 목 | C34: 130104 | G34: 5204 | H34: 산학협력단및학교기업전입금 | I34: 항 | J34: 건설가계정 | K34: 목 | L34: 130115
A35: 구축물감가상각누계액 | B35: 목 | C35: 130105 | G35: 5401 | H35: 예금이자수입 | I35: 항 | J35: 컨텐츠 | K35: 목 | L35: 130116
A36: 기계기구 | B36: 목 | C36: 130106 | G36: 5402 | H36: 기타교육외수입 | I36: 항 | J36: 무형고정자산 | K36: 목 | L36: 130201
A37: 기계기구감가상각누계액 | B37: 목 | C37: 130107 | G37: 5404 | H37: 고유목적사업준비금환입액 | I37: 항 | J37: 건물사용수익권 | K37: 목 | L37: 140101
A38: 집기비품 | B38: 목 | C38: 130108 | G38: 5901 | H38: 미사용전기이월자금 | I38: 항 | J38: 일반예수금 | K38: 목 | L38: 210201
A39: 집기비품감가상각누계액 | B39: 목 | C39: 130109 | G39: 0 | H39: - | I39: - | J39: 제세예수금 | K39: 목 | L39: 210202
A40: 차량운반구 | B40: 목 | C40: 130110 | J40: 특별회계예수금 | K40: 목 | L40: 210203
A41: 차량운반구감가상각누계액 | B41: 목 | C41: 130111 | J41: 기타예수금 | K41: 목 | L41: 210204
A42: 도서 | B42: 목 | C42: 130112 | J42: 학생회예수금 | K42: 목 | L42: 210205
A43: 도서감가상각누계액 | B43: 목 | C43: 130113 | J43: 등록금선수금 | K43: 목 | L43: 210301
A44: 박물관유물 | B44: 목 | C44: 130114 | J44: 기타선수금 | K44: 목 | L44: 210303
A45: 건설가계정 | B45: 목 | C45: 130115 | J45: 미지급금 | K45: 목 | L45: 210401
A46: 컨텐츠 | B46: 목 | C46: 130116 | J46: 가수금 | K46: 목 | L46: 210402
A47: 무형고정자산 | B47: 항 | C47: 1302 | J47: 지급어음 | K47: 목 | L47: 210403
A48: 무형고정자산 | B48: 목 | C48: 130201 | J48: 기타유동부채 | K48: 목 | L48: 210404
A49: 사용수익권 | B49: 관 | C49: 14 | J49: 장기미지급금 | K49: 목 | L49: 220202
A50: 사용수익권 | B50: 항 | C50: 1401 | J50: 고유목적사업준비금 | K50: 목 | L50: 220203
A51: 건물사용수익권 | B51: 목 | C51: 140101 | J51: 기타고정부채 | K51: 목 | L51: 220204
... A101: 조교인건비 | B101: 목 | C101: 410108 | J101: 연구관리비 | K101: 목 | L101: 430102
A102: 직원보수 | B102: 항 | C102: 4102 | J102: 교외장학금 | K102: 목 | L102: 430201
A103: 직원급여 | B103: 목 | C103: 410201 | J103: 교내장학금 | K103: 목 | L103: 430202
A104: 직원상여금 | B104: 목 | C104: 410202 | J104: 실험실습비 | K104: 목 | L104: 430203
A105: 직원제수당 | B105: 목 | C105: 410203 | J105: 논문심사료 | K105: 목 | L105: 430204
A106: 직원법정부담금 | B106: 목 | C106: 410204 | J106: 학생지원비 | K106: 목 | L106: 430205
A107: 직원사학연금부담금 | B107: 세목 | C107: 41020401 | J107: 기타학생경비 | K107: 목 | L107: 430206
A108: 직원국민연금부담금 | B108: 세목 | C108: 41020402 | J108: 잡손실 | K108: 목 | L108: 440201
A109: 직원건강보험금 | B109: 세목 | C109: 41020403 | J109: 외화환산손실 | K109: 목 | L109: 440202
A110: 직원고용산재보험금 | B110: 세목 | C110: 41020404 | J110: 외환차손 | K110: 목 | L110: 440203
A111: 직원퇴직수당부담금 | B111: 세목 | C111: 41020405 | J111: 투자유가증권처분손실 | K111: 목 | L111: 440204
A112: 임시직인건비 | B112: 목 | C112: 410205 | J112: 투자유가증권평가손실 | K112: 목 | L112: 440205
A113: 노임 | B113: 목 | C113: 410206 | J113: 고정자산처분손실 | K113: 목 | L113: 440206
A114: 직원퇴직금 | B114: 목 | C114: 410207 | J114: 특별회계사업비 | K114: 목 | L114: 440208
... A158: 학생경비 | B158: 항 | C158: 4302 | J158: 직원국민연금부담금 | K158: 세목 | L158: 41020402
A159: 교외장학금 | B159: 목 | C159: 430201 | J159: 직원건강보험금 | K159: 세목 | L159: 41020403
A160: 교내장학금 | B160: 목 | C160: 430202 | J160: 직원고용산재보험금 | K160: 세목 | L160: 41020404
A161: 실험실습비 | B161: 목 | C161: 430203 | J161: 직원퇴직수당부담금 | K161: 세목 | L161: 41020405
A162: 논문심사료 | B162: 목 | C162: 430204 | J162: 건물감가상각비 | K162: 세목 | L162: 42050101
A163: 학생지원비 | B163: 목 | C163: 430205 | J163: 구축물감가상각비 | K163: 세목 | L163: 42050102
A164: 기타학생경비 | B164: 목 | C164: 430206 | J164: 기계기구감가상각비 | K164: 세목 | L164: 42050103
A165: 교육외비용 | B165: 관 | C165: 44 | J165: 집기비품감가상각비 | K165: 세목 | L165: 42050104
A166: 기타교육외비용 | B166: 항 | C166: 4402 | J166: 차량운반구감가상각비 | K166: 세목 | L166: 42050105
A167: 잡손실 | B167: 목 | C167: 440201 | J167: 도서감가상각비 | K167: 세목 | L167: 42050106
A168: 외화환산손실 | B168: 목 | C168: 440202 | J168: 건축적립금적립액 | K168: 세목 | L168: 45010901
A169: 외환차손 | B169: 목 | C169: 440203 | J169: 차입원리금상환액 | K169: 세목 | L169: 45010902
A170: 투자유가증권처분손실 | B170: 목 | C170: 440204 | J170: 계절학기수업료 | K170: 세목 | L170: 510105
A171: 투자유가증권평가손실 | B171: 목 | C171: 440205
A172: 고정자산처분손실 | B172: 목 | C172: 440206
A173: 특별회계사업비 | B173: 목 | C173: 440208
A174: 고정자산폐기손실 | B174: 목 | C174: 440210
A175: 전기오류수정손실 | B175: 목 | C175: 440211
A176: 고유목적사업준비금전입액 | B176: 항 | C176: 4403
A177: 고유목적사업준비금전입액 | B177: 목 | C177: 440301
A178: 전출금 | B178: 관 | C178: 45
A179: 전출금 | B179: 항 | C179: 4501
A180: 특별회계전출금 | B180: 목 | C180: 450105
A181: 교내전출금 | B181: 목 | C181: 450106
A182: 비등록금회계전출금 | B182: 목 | C182: 450109
... A229: 미사용전기이월자금 | B229: 항 | C229: 5901
